BEGIN:VCALENDAR
VERSION:2.0
PRODID:icalendar-ruby
CALSCALE:GREGORIAN
METHOD:PUBLISH
BEGIN:VEVENT
DTSTAMP:20260421T180330Z
UID:513-3805172@oasisoflovefellowship.org
DTSTART:20260619T230000Z
DTEND:20260620T010000Z
CLASS:PUBLIC
CREATED:20260417T113939
DESCRIPTION:Ladies\, join us at Sis. Allen's house for a special time of ce
 lebration\, fun\, food\, and fellowship! Come relax\, laugh\, and connect.
  We'd love to spend this time together with you. Refreshments Served. 
LAST-MODIFIED:20260417T113939
LOCATION:269 Franklin Lane\; Natchitoches\, LA 71457
SUMMARY:Perfect Hearts Women at Sis. Allen's House!
URL;VALUE=URI:https://oasisoflovefellowship.org/events/perfect-hearts-women
 -at-sis-allens-house/2026-06-19
ATTACH;FILENAME=615474650_10229643116805854_2992084677984739764_n.jpeg;FMTT
 YPE=image/jpeg:https://dq5pwpg1q8ru0.cloudfront.net/2026/04/17/16/39/39/1b
 fae6f1-e0bf-45db-80ba-ab178a40b9aa/615474650_10229643116805854_29920846779
 84739764_n.jpeg
END:VEVENT
END:VCALENDAR
