BEGIN:VCALENDAR
VERSION:2.0
PRODID:icalendar-ruby
CALSCALE:GREGORIAN
METHOD:PUBLISH
BEGIN:VEVENT
DTSTAMP:20260422T070016Z
UID:7-3861161@oasisoflovefellowship.org
DTSTART:20261014T230000Z
DTEND:20261015T000000Z
CLASS:PUBLIC
CREATED:20260421T190026
DESCRIPTION:
LAST-MODIFIED:20260421T190026
LOCATION:Oasis of Love\; 7681 Hwy. 1 By-pass\; Natchitoches\, Louisiana\; C
 hapel 
SUMMARY:Light Source Youth 
URL;VALUE=URI:https://oasisoflovefellowship.org/events/light-source-youth/2
 026-10-14
ATTACH;FILENAME=Light Source.JPG;FMTTYPE=image/jpeg:https://dq5pwpg1q8ru0.c
 loudfront.net/2021/03/11/09/20/21/9a5ee275-7788-48c7-b3cb-0d5fac180e8d/Lig
 ht%20Source.JPG
END:VEVENT
END:VCALENDAR
