BEGIN:VCALENDAR
VERSION:2.0
PRODID:icalendar-ruby
CALSCALE:GREGORIAN
METHOD:PUBLISH
BEGIN:VEVENT
DTSTAMP:20260421T151056Z
UID:514-3805173@oasisoflovefellowship.org
DTSTART:20260510T153000Z
DTEND:20260510T170000Z
CLASS:PUBLIC
CREATED:20260417T125830
DESCRIPTION:Join us for a fun day celebrating the end of the school year! A
 t 10:30\, we will start with a Bible lesson\; then we will go outside arou
 nd 11am for a bounce house and waterslide! Make sure to wear your bathing 
 suit and bring a towel! Snacks will be provided!
LAST-MODIFIED:20260417T125830
LOCATION:7681 LA-1\, Natchitoches\, LA 71457
SUMMARY:End of School Bash!
URL;VALUE=URI:https://oasisoflovefellowship.org/events/end-of-school-bash--
 514/2026-05-10
ATTACH;FILENAME=Blue Pink and Yellow Playful Birthday Invitation (960 x 600
  px).jpg;FMTTYPE=image/jpeg:https://dq5pwpg1q8ru0.cloudfront.net/2026/04/1
 7/17/58/30/20cfeec8-9ad2-4805-8d08-743a15bf3fc5/Blue%20Pink%20and%20Yellow
 %20Playful%20Birthday%20Invitation%20(960%20x%20600%20px).jpg
END:VEVENT
END:VCALENDAR
